BEGIN:VCALENDAR
VERSION:2.0
PRODID:-//wp-events-plugin.com//7.2.3.1//EN
TZID:Europe/Berlin
X-WR-TIMEZONE:Europe/Berlin
BEGIN:VEVENT
UID:21@tt-owners-club.net
DTSTART;TZID=Europe/Berlin:20220618T100000
DTEND;TZID=Europe/Berlin:20220618T190000
DTSTAMP:20240124T210848Z
URL:https://www.tt-owners-club.net/events/tortenmeister-nach-mueden-18-jun
 i-2022/
SUMMARY:Tortenmeister nach Müden 18. Juni 2022
DESCRIPTION:In diesem Jahr fuhren wir aus Sevetal bei Hamburg Richtung Müd
 en (Örze). \n\nInsgesamt waren neun TTs am Start und auch alte Weggefähr
 ten fanden mit Ersatzfahrzeug den Weg in die Lüneburger Heide. \n\nBei tr
 aumhaftem Wetter war vor dem Kuchen war noch etwas Geschichte angesagt\, w
 ir besuchten das Luftbrückenmuseum in Fassberg (www.luftbrueckenmuseum.de
 ). Nach einer 2-stündigen Führung durch einen ehemaligen Angestellten de
 r Luftwaffe und Gruppenfotos machten wir uns dann auf den Weg zu hervorrag
 endem Kuchen und netten Gesprächen. \n\nAuch dieses Mal wieder sind alle 
 davon überzeugt\, im nächsten Jahr wieder dabei zu sein\, wenn es heißt
 \, wir fahren zum Tortenmeister.\n\nTommi und Thorsten\n[smartslider3 slid
 er="27"]
ATTACH;FMTTYPE=image/jpeg:https://www.tt-owners-club.net/wp-content/upload
 s/2024/01/Torten22-Mueden.jpeg
CATEGORIES:TTOC Events
END:VEVENT
BEGIN:VTIMEZONE
TZID:Europe/Berlin
X-LIC-LOCATION:Europe/Berlin
BEGIN:DAYLIGHT
DTSTART:20220327T030000
TZOFFSETFROM:+0100
TZOFFSETTO:+0200
TZNAME:CEST
END:DAYLIGHT
END:VTIMEZONE
END:VCALENDAR