BEGIN:VCALENDAR
VERSION:2.0
PRODID:-//wp-events-plugin.com//7.2.3.1//EN
TZID:Europe/Berlin
X-WR-TIMEZONE:Europe/Berlin
BEGIN:VEVENT
UID:28@tt-owners-club.net
DTSTART;TZID=Europe/Berlin:20250904T200000
DTEND;TZID=Europe/Berlin:20250907T160000
DTSTAMP:20250330T062441Z
URL:https://www.tt-owners-club.net/events/sommerevent2025/
SUMMARY:Sommerevent 25 Jahre TTOC\, in Heiligenstadt in Thüringen 04.- 07.
 09.2025
DESCRIPTION:Ankündigung des Jubiläumssommerevent 2025\n\nLiebe TT Freunde
 \,\num mit Euch das 25-jährige Vereinsjubiläum gebührend zu feiern werd
 en wir uns zum diesjährigen Sommerevent vom 04.09.-07.09.2025 in der geog
 raphischen Mitte Deutschlands treffen. Während unseres Events sind wir zu
  Gast im Hotel am Vitalpark im thüringischen Heilbad Heiligenstadt. Unwei
 t der ehemaligen innerdeutschen Grenze werden wir in den kommenden Tagen d
 ie Region des Eichsfelder Beckens &amp\; Harzes kennenlernen sowie ausreic
 hend Möglichkeiten haben\, um gemeinsam über Anekdoten &amp\; Erlebnisse
  aus 25 Jahren TTOC Geschichte zu schwelgen.\n\nGeplanter Ablauf:\n\n04.09
 .2025\nIndividuelle Anreise und Check In\n\n05.09.2025\nNach dem Frühstü
 ck (Abfahrt ca. 10 Uhr) führt uns unsere Tour durch das nördliche Eichsf
 eld zum Grenzlandmuseum\, wo wir die bewegte Geschichte der Region kennenl
 ernen werden. Hier werden wir in Gruppen zu je 25 Personen einen geführte
 n Rundgang haben\, wo wir über die Geschichte der innerdeutschen Grenze i
 nformiert werden. Im Anschluss ist ein Imbiss unter freiem Himmel vorgeseh
 en.\nGut gestärkt werden wir nach einem kleinen Fußmarsch auf dem Grenzs
 treifen zu unseren Autos zurückkehren\, um dann im zweiten Teil der Tour 
 ins Hotel zurückzukehren.\n\nZum Abend werden wir Mitgliederehrungen vorn
 ehmen und unsere traditionelle Tombola durchführen. Lasst Euch überrasch
 en…\n\n06.09.2025\nDie heutige Tour führt uns aus Thüringen in das ben
 achbarte Hessen. Über Nebenstraßen entlang von Burgen und Landgütern\, 
 die das Landschaftsbild prägen kommen wir in das Kaufunger Land nach Witz
 enhausen. Wir fahren weiter in das Niestetal zu unserer Mittagsrast auf de
 r Königsalm\, wo wir in einladender Atmosphäre eine ausgiebige Pause vor
 nehmen.\nDie anschließende Rücktour führt uns entlang der innerdeutsche
 n Grenze und durch das Werratal zurück zum Hotel.\n\nBei Livemusik werden
  wir heute Abend unser Vereinsjubiläum feiern können.\n\n07.09.2025\nUns
 ere letzte Tour des diesjährigen Sommerevents führt uns aus dem Eichsfel
 d in den Naturpark Südharz. Wir verlassen das Eichsfelder Becken und fahr
 en ostwärts Richtung Nordhausen\, dem „Tor“ in den Harz. Wir durchque
 ren die mittelalterliche Stadt Stolberg auf ihren Kopfsteinpflasterstraße
 n und fahren weiter zum Ziel dem Josephskreuz. Vom weltweit größten eise
 rnen Doppelkreuz bietet sich die Möglichkeit einen Blick von oben auf uns
 ere TT´s zu werfen\, als auch die Aussicht in den Harz\, das Thüringer B
 ecken bis hin in den Thüringer Wald zu genießen.\nBevor die individuelle
  Heimreise stattfindet kehren wir am Fuße des Josephskreuz zu einem typis
 ch thüringischen Grill-Imbiss ein.\n\n&nbsp\;\n\nEvent-Shirt:\n\nWir habe
 n ein Event-Shirt für Herren und Damen. Zur Auswahl stehen vier Farben:\n
 \nWeiß\, Rojalblau\, Weinrot\, Tanne (grün) und Kiwi\n\nModell Damen: No
 . 214 Poloshirt Damen\n\nModell Herren: No. 814 –Poloshirt Herren\n\nZur
  Orientierung die Größentabelle von Hakro: Hakro Größentabelle\n\n \n
 \nEventlocation und Konditionen:\nUnser Eventhotel:\n\nBitte bucht Euer Zi
 mmer selbst.\n\nHotel am Vitalpark\nIn der Leineaue 2\n37308 Heilbad Heili
 genstadt\n\n115€/Nacht pro Superiorzimmer (Einzelbelegung) inkl. Zutritt
  zum Wellnessbereich\n145€/Nacht pro Superiorzimmer (Doppelbelegung) ink
 l. Zutritt zum Wellnessbereich\n\nHalbpension: 3x Frühstück/2x Abendbuff
 et: 74€ pro Person\nBei Voranreise am Donnerstag: Option für das Abendb
 uffet zu 32€ pro Person\n\n2€ Kurtaxe pro Person/Tag\n5€ Parkgebühr
 en/Tag (öffentlicher Parkplatz mit einem für uns abgesperrten Bereich)\n
 \nWeitere Details zur Hotelbuchung bekommt ihr in der Anmeldebestätigung.
  Wenn Ihr absagen müsst\, bitte selbst das Hotelzimmer stornieren.\n\nEve
 ntgebühr:\n\nMitglieder 140€\n\nNichtmitglieder 240€\n\nIhr könnt da
 s Event kostenfrei stornieren bis 42 Tage vor Anreise\, bis 19 Tage behalt
 en wir 20% ein\, bis 9 Tage 50% und darunter 80% des Eventbeitrags.\n\n&nb
 sp\;\n\nDas Anmeldeformular ist hier.\n\n&nbsp\;\n\nWir freuen uns auf Euc
 h\n\n&nbsp\;\n\nPlanungsteam Harz-Heide\n\nHier noch Impressionen vom Hote
 l und Grenzlandmuseum\n[smartslider3 slider="46"]
ATTACH;FMTTYPE=image/jpeg:https://www.tt-owners-club.net/wp-content/upload
 s/2024/08/Sommer25-Franken19-Bild_276-scaled.jpg
CATEGORIES:TTOC Events
END:VEVENT
BEGIN:VTIMEZONE
TZID:Europe/Berlin
X-LIC-LOCATION:Europe/Berlin
BEGIN:DAYLIGHT
DTSTART:20250330T030000
TZOFFSETFROM:+0100
TZOFFSETTO:+0200
TZNAME:CEST
END:DAYLIGHT
END:VTIMEZONE
END:VCALENDAR