BEGIN:VCALENDAR
VERSION:2.0
PRODID:-//wp-events-plugin.com//7.2.3.1//EN
TZID:Europe/Berlin
X-WR-TIMEZONE:Europe/Berlin
BEGIN:VEVENT
UID:57@tt-owners-club.net
DTSTART;TZID=Europe/Berlin:20260910T000000
DTEND;TZID=Europe/Berlin:20260913T000000
DTSTAMP:20260419T182110Z
URL:https://www.tt-owners-club.net/events/sommerevent-2026-in-schwerin-vom
 -10-bis-13-september/
SUMMARY:Sommerevent 2026 in Schwerin vom 10. bis 13. September
DESCRIPTION:Hallo liebe TT-Freundinnen und -Freunde\,\n\nes ist wieder sowe
 it! Unser Sommerevent 2026 steht vor der Tür und führt uns vom 10. bis 1
 3. September in die wunderschöne Landeshauptstadt von Mecklenburg-Vorpomm
 ern: Schwerin.\n\nWir haben ein Programm zusammengestellt\, das sowohl Kul
 tur als auch Kurven bietet. Hier ist der Fahrplan für unser gemeinsames W
 ochenende:\n🗓️ Das Programm\nDonnerstag\, 10.09.:\n\nIndividuelle Anr
 eise und gemütliches Ankommen. Wir starten traditionell mit einem gemeins
 amen A-la-carte-Abendessen in unserem Eventhotel.\n\nFreitag\, 11.09.:\n\n
 Heute haben die TTs Pause! Wir erkunden Schwerin zu Wasser und zu Land: St
 adtrundfahrt mit dem Petermännchen\, Schlossbesichtigung und eine Schifff
 ahrt auf dem Schweriner See. Abends kehren wir im traditionellen Weinhaus 
 Wöhler ein.\n\nSamstag\, 12.09.:\n\nJetzt dürfen die TTs ran! Wir fahren
  in Gruppen durch die malerische Lewitz (Wiesen- und Waldlandschaft) mit Z
 iel Brauerei Lübz. Dort erwartet uns eine Führung inklusive Tasting (mit
  alkoholhaltiger Option) und einem kleinen Mittagssnack. Danach geht es zu
 rück\, für ein exklusives Fotoshooting vor der Schlosskulisse und einen 
 Ausklang im Restaurant Seglerheim.\n\nSonntag\, 13.09.:\n\nGemeinsames Fr
 ühstück und individuelle Heimreise.\n\n🐶Hinweis:\n\nGrundsätzlich si
 nd bei den Event-Punkten Hunde erlaubt\, außer bei der Schloss- bzw. der 
 Brauereiführung.\n\n\n\n💰 Eventbeitrag &amp\; Leistungen\n\n 	Mitglied
 er: 270 EUR p. P.\n 	Nicht-Mitglieder: 390 EUR p. P.\n\nWir haben für euc
 h ein umfangreiches "Rundum Sorglos" Leistungspaket geschnürt. Die folgen
 den Leistungen sind in eurem Eventbeitag enthalten:\n\n 	Freitag\n\n 	Stad
 trundfahrt mit dem „Petermännchen“ (1 Std.)\n 	Schlossbesichtigung (1
  Std.)\n 	Schifffahrt auf dem Schweriner See\, inklusive Kaffee und einem 
 Stück Kuchen (1:30 Std.)\n 	Abendessen vom Buffet und Getränke (Auswahl 
 an Bier\, Wein\, Softdrinks\, Wasser) im traditionellen Weinhaus Wöhler (
 4 Std.)\n\n\n 	Samstag\n\n 	Brauereiführung Lübz (1:30 Std.)\n 	Mittagss
 nack in der Lübzer Brauerei\n 	Abendessen vom BBQ-Buffet und Getränke (A
 uswahl an Bier\, Wein\, Softdrinks\, Wasser) im Seglerheim (5 Std.)\n 	Cha
 rter Busfahrt Hotel - Restaurant Seglerheim - Hotel\n\n\n 	Eventpolo-Hemd\
 n 	Parkgebühren am Hotel\n\n\n\n\n🏨 Übernachtung (Selbstbucher)\nWir 
 sind im Courtyard by Marriott Schwerin untergebracht.\n\n 	Preise: Pro Nac
 ht im DZ 127\,33 € / EZ 116\,63 € (jeweils inkl. Frühstück &amp\; Ci
 ty Tax).\n 	Hunde: Sind willkommen (Aufpreis 50 € für den Aufenthalt).\
 n 	Buchung: Nutzt bitte diesen Link für eure Hotelbuchung über das Abruf
 kontingent.\n 	⚠️ Wichtig: Das Abrufkontingent endet am 31.05.2026. Da
 nach können Preis und Verfügbarkeit nicht garantiert werden!\n 	Stornier
 ungsbedingung Hotel: Bis 7 Tage vor Anreise.\n\n\n\n\n📝 Anmeldung &amp\
 ; Fristen\nSeid schnell und sichert euch euren Platz! Im Anmeldeformular k
 önnt ihr uns auch direkt über etwaige Ernährungswünsche oder Allergien
  informieren.\n\n 	Anmeldeschluss: 30. Juni 2026\n 	Stornierungsbedingung 
 Eventbeitrag: Kostenfrei bis 17. Juli 2026 (danach ist eine Erstattung aus
 geschlossen).\n 	Bezahlung: Nach der Anmeldung erhaltet ihr eine Bestätig
 ungsmail mit weiteren Details und den Zahlungsmodalitäten.\n\nBitte beach
 tet\, dass eure Anmeldung erst mit der vollständigen Überweisung des Eve
 ntbeitrages abgeschlossen ist.\n\n👉 HIER GEHT ES DIREKT ZUR ANMELDUNG!\
 n\nWir freuen uns riesig auf ein unvergessliches Wochenende mit euch und e
 uren TTs in Schwerin!\n\nEuer Orga-Team\n\nJana\, Naomi\, Christian\, Clau
 s\, Lars\, Tommi und Thorsten\n\nBildnachweis Schweriner Schloss: Creative
  Commons Attribution-ShareAlike 4.0 International\n\n&nbsp\;
ATTACH;FMTTYPE=image/jpeg:https://www.tt-owners-club.net/wp-content/upload
 s/2026/04/Sommer26_Schwerin_Castle-scaled.jpg
CATEGORIES:TTOC Events
END:VEVENT
BEGIN:VTIMEZONE
TZID:Europe/Berlin
X-LIC-LOCATION:Europe/Berlin
BEGIN:DAYLIGHT
DTSTART:20260329T030000
TZOFFSETFROM:+0100
TZOFFSETTO:+0200
TZNAME:CEST
END:DAYLIGHT
END:VTIMEZONE
END:VCALENDAR