BEGIN:VCALENDAR
VERSION:2.0
PRODID:-//wp-events-plugin.com//7.2.3.1//EN
TZID:Europe/Berlin
X-WR-TIMEZONE:Europe/Berlin
BEGIN:VEVENT
UID:58@tt-owners-club.net
DTSTART;TZID=Europe/Berlin:20260416T000000
DTEND;TZID=Europe/Berlin:20260419T000000
DTSTAMP:20260421T164406Z
URL:https://www.tt-owners-club.net/events/saisoneroeffnung-nordlichtter-on
 -the-road-am-wasser-in-bergen-und-museen/
SUMMARY:Saisoneröffnung NordlichTTer: On the road\, am Wasser\, in Bergen 
 und Museen
DESCRIPTION:Die NordlichTTer sind zurück – Saisonstart 2026 im schönen 
 Hickengrund. Vom 16. bis 19. April 2026 erwachten die NordlichTTer aus ihr
 em Winterschlaf und starteten ihre Saison mit einer gemeinsamen Ausfahrt r
 und um den Hickengrund am Dreiländereck NRW\, Rheinland-Pfalz und Hessen.
 \n\nBei bestem Frühlingswetter stand gleich zu Beginn ein echtes Highligh
 t auf dem Programm: Die Burg Greifenstein mit ihrer beeindruckenden Doppel
 kirche sowie Deutschlands größtem Glockenmuseum. Die Anfahrt führte üb
 er kurvenreiche Landstraßen durch den Westerwald und idyllische hessische
  Wälder – genau das\, was das Fahrerherz begehrt. Ein absolutes Highlig
 ht folgte im Nationalen Automuseum in Ewersbach. Unser Guide – selbst pa
 ssionierter Schrauber mit einem auf 300 PS getunten Audi TT (Typ 8J) – f
 ührte uns mit großer Fachkompetenz durch die Ausstellung.\n\nNatürlich 
 nutzten wir die Gelegenheit\, für eine Mitgliedschaft bei uns zu werben. 
 Zu nahezu jedem der rund 200 Fahrzeuge konnte er spannende Geschichten zu 
 Herkunft\, Besitzer und Besonderheiten des Ausstellungsstücks erzählen. 
 Sehr beeindruckend ist auch\, dass bis auf drei Fahrzeuge alle Exponate ni
 cht nur in makellosem Zustand\, sondern auch fahrbereit restauriert sind. 
 Spätestens hier schlugen die Motorherzen höher.\n\nDie Sonderausstellung
  „Touren-Renn-Wagen“ rundete das Erlebnis perfekt ab. Auch die Abende 
 kamen nicht zu kurz. In geselliger Runde ließen wir die Tage bei gutem Es
 sen\, interessanten Gesprächen und viel Gelächter ausklingen.\n\nAm folg
 enden Tag führte uns die Route durchs Siegerland zur Atta-Höhle in Atten
 dorn. Bei einer eindrucksvollen Führung durch die Tropfsteinhöhle ging e
 s über 300 Stufen und mehr als einen Kilometer Wegstrecke rund 100 Meter 
 unter die Erde. Die über 100.000 Jahre alten Tropfsteinformationen sorgte
 n für Staunen bei allen Teilnehmern und Teilnehmerinnen. Zurück im Sonne
 nschein ging es weiter zur Schiffsanlegestelle in Sondern. Dort erwartete 
 uns eine entspannte 1\,5-stündige Schifffahrt über den Biggesee bis zur 
 Sperrmauer und zurück bei Kaffee und Kuchen.\n\nEin kurzer Zwischenstopp 
 in Siegen-Weidenau mit einer wohlverdienten Portion Eis durfte natürlich 
 nicht fehlen. Am Abend wurden wir im Steakhaus Timberjacks kulinarisch ver
 wöhnt\, bevor wir den Tag in einer kleinen\, gemütlichen Gastwirtschaft 
 in geschlossener Runde mit edlen Bränden und dem einen oder anderen Schop
 pen ausklingen ließen. Nach einem gemeinsamen Frühstück am letzten Morg
 en hieß es dann leider Abschied nehmen. Doch eines war allen klar - die V
 orfreude auf das nächste gemeinsame Abenteuer ist bereits jetzt riesig.\n
 \nFazit: Eine rundum gelungene Saisoneröffnung mit großartigen Strecken\
 , spannenden Zielen\, vielen Benzingesprächen und vor allem bester Gemein
 schaft bei Bilderbuchwetter! So kann die Motorsportsaison gerne weiter geh
 en!\n[smartslider3 slider="57"]\n
ATTACH;FMTTYPE=image/jpeg:https://www.tt-owners-club.net/wp-content/upload
 s/2026/04/NordLichTTerSaison26-01-TT-Greifenstein.jpg
CATEGORIES:TTOC Events
END:VEVENT
BEGIN:VTIMEZONE
TZID:Europe/Berlin
X-LIC-LOCATION:Europe/Berlin
BEGIN:DAYLIGHT
DTSTART:20260329T030000
TZOFFSETFROM:+0100
TZOFFSETTO:+0200
TZNAME:CEST
END:DAYLIGHT
END:VTIMEZONE
END:VCALENDAR