BEGIN:VCALENDAR
VERSION:2.0
PRODID:-//wp-events-plugin.com//7.2.3.1//EN
TZID:Europe/Berlin
X-WR-TIMEZONE:Europe/Berlin
BEGIN:VEVENT
UID:16@tt-owners-club.net
DTSTART;TZID=Europe/Berlin:20220429T100000
DTEND;TZID=Europe/Berlin:20220501T100000
DTSTAMP:20240124T210507Z
URL:https://www.tt-owners-club.net/events/pfalz-saison-eroeffnungs-ttour/
SUMMARY:Pfalz Saison-Eröffnungs TTour
DESCRIPTION:\n\nSaisoneröffnung vom 29.04.-01.05.2022 Wir starteten unsere
  Saisoneröffnung der Regionalgruppe Harz und Heide gemeinsam mit der Regi
 onalgruppe Rhein-Main-Neckar. Von Zwei unterschiedlichen Startpunkten ging
  es am 29.04. los.\n\nWobei wir\, Harz &amp\; Heide\, uns in Koblenz trafe
 n um dann als Gruppe\, bei schönstem Wetter \, entlang der Mosel unser Ta
 gesziel Saarlouis zu erreichen. Dort haben wir dann im Alten Pfarrhaus gem
 einsam unser Quartier für die kommenden Tage bezogen.\n\nDie Gruppe RMN t
 raf sich mit 12 Audi TTs am Rhein bei Andernach um dann über die verwinke
 lten Straßen quer durch die Eifel\, Saarlouis zu erreichen.\n\nNach einem
  gemütlichen Abend bei gutem Essen und schöne Gesprächen starteten wir 
 am kommenden Tag mit 19 TT zu unserer Ausfahrt. Unsere Tour führte uns zu
 r Saarschleife wo wir eine Pause einlegten .Weiter über Schengen führte 
 uns unser Weg nach Saarburg und zum Weingut Van Volxem.\n\nNach der Verkos
 tung der edlen Tropfen \, in toller Atmosphäre \, fuhren wir wieder zurü
 ck nach Saarlouis und ließen dort den Tag in gemütlicher Runde ausklinge
 n.\n\nNach einem schöne Abend sowie einem reichhaltigem Frühstück start
 eten wir zur letzen Tagestour an diesem Wochenende.\n\nUnsere Tour führte
  uns über den Hundsrück zur Burg Lichtenberg wo wir eine Rast einlegten.
  Weiter entlang der Nahe endete unsere Etappe in Bad Kreuznach wo wir die 
 Tour bei nach einer Pause im Biergarten beendeten und die Heimreise antrat
 en.\n[smartslider3 slider="23"]\n
ATTACH;FMTTYPE=image/jpeg:https://www.tt-owners-club.net/wp-content/upload
 s/2024/01/Saar22-01.jpg
CATEGORIES:TTOC Events
END:VEVENT
BEGIN:VTIMEZONE
TZID:Europe/Berlin
X-LIC-LOCATION:Europe/Berlin
BEGIN:DAYLIGHT
DTSTART:20220327T030000
TZOFFSETFROM:+0100
TZOFFSETTO:+0200
TZNAME:CEST
END:DAYLIGHT
END:VTIMEZONE
END:VCALENDAR