BEGIN:VCALENDAR
VERSION:2.0
PRODID:-//wp-events-plugin.com//7.2.3.1//EN
TZID:Europe/Berlin
X-WR-TIMEZONE:Europe/Berlin
BEGIN:VEVENT
UID:60@tt-owners-club.net
DTSTART;TZID=Europe/Berlin:20261010T000000
DTEND;TZID=Europe/Berlin:20261010T000000
DTSTAMP:20260421T165158Z
URL:https://www.tt-owners-club.net/events/nordlichtter-tagesfahrt-zum-tort
 enmeister-nach-mueden-oertze-2/
SUMMARY:NordlichTTer – Tagesfahrt zum Tortenmeister nach Müden (Örtze)
DESCRIPTION:Wir starten zu unserer traditionellen Kalorientour in die Lüne
 burger Heide.
ATTACH;FMTTYPE=image/jpeg:https://www.tt-owners-club.net/wp-content/upload
 s/2024/01/Torten22-Mueden.jpeg
CATEGORIES:TTOC Events
END:VEVENT
BEGIN:VTIMEZONE
TZID:Europe/Berlin
X-LIC-LOCATION:Europe/Berlin
BEGIN:DAYLIGHT
DTSTART:20260329T030000
TZOFFSETFROM:+0100
TZOFFSETTO:+0200
TZNAME:CEST
END:DAYLIGHT
END:VTIMEZONE
END:VCALENDAR