BEGIN:VCALENDAR
VERSION:2.0
PRODID:-//wp-events-plugin.com//7.2.3.1//EN
TZID:Europe/Berlin
X-WR-TIMEZONE:Europe/Berlin
BEGIN:VEVENT
UID:59@tt-owners-club.net
DTSTART;TZID=Europe/Berlin:20260606T000000
DTEND;TZID=Europe/Berlin:20260606T000000
DTSTAMP:20260421T165009Z
URL:https://www.tt-owners-club.net/events/nordlichtter-tagesfahrt-zum-erdo
 elmuseum-in-wietze/
SUMMARY:NordlichTTer – Tagesfahrt zum Erdölmuseum in Wietze
DESCRIPTION:Eine Anmeldung im Forum möglich.
ATTACH;FMTTYPE=image/jpeg:https://www.tt-owners-club.net/wp-content/upload
 s/2024/02/Regional-Logo-NordlichTTer-2024.jpg
CATEGORIES:TTOC Events
END:VEVENT
BEGIN:VTIMEZONE
TZID:Europe/Berlin
X-LIC-LOCATION:Europe/Berlin
BEGIN:DAYLIGHT
DTSTART:20260329T030000
TZOFFSETFROM:+0100
TZOFFSETTO:+0200
TZNAME:CEST
END:DAYLIGHT
END:VTIMEZONE
END:VCALENDAR