BEGIN:VCALENDAR
VERSION:2.0
PRODID:-//wp-events-plugin.com//7.2.3.1//EN
TZID:Europe/Berlin
X-WR-TIMEZONE:Europe/Berlin
BEGIN:VEVENT
UID:41@tt-owners-club.net
DTSTART;TZID=Europe/Berlin:20251101T183000
DTEND;TZID=Europe/Berlin:20251101T233000
DTSTAMP:20250330T143942Z
URL:https://www.tt-owners-club.net/events/nordlichtter-gansessen-2025/
SUMMARY:NordLichTTer: Gansessen 2025
DESCRIPTION:Zum Jahresabschluss treffen wir uns in der Lüneburger Heide zu
 m traditionellen Gansessen in toller Atmosphäre.\n\n Gasthof Wille in Wel
 le
ATTACH;FMTTYPE=image/jpeg:https://www.tt-owners-club.net/wp-content/upload
 s/2025/03/NordLichTTer25-Gans.jpg
CATEGORIES:TTOC Events
END:VEVENT
BEGIN:VTIMEZONE
TZID:Europe/Berlin
X-LIC-LOCATION:Europe/Berlin
BEGIN:STANDARD
DTSTART:20251026T020000
TZOFFSETFROM:+0200
TZOFFSETTO:+0100
TZNAME:CET
END:STANDARD
END:VTIMEZONE
END:VCALENDAR