BEGIN:VCALENDAR
VERSION:2.0
PRODID:-//wp-events-plugin.com//7.2.3.1//EN
TZID:Europe/Berlin
X-WR-TIMEZONE:Europe/Berlin
BEGIN:VEVENT
UID:61@tt-owners-club.net
DTSTART;TZID=Europe/Berlin:20261107T000000
DTEND;TZID=Europe/Berlin:20261107T000000
DTSTAMP:20260421T165304Z
URL:https://www.tt-owners-club.net/events/nordlichtter-abendveranstaltung-
 gansessen/
SUMMARY:NordlichTTer – Abendveranstaltung Gansessen
DESCRIPTION:Unser Jahresabschluss bei leckerer Gans und gemütlichem Beisam
 mensein.
ATTACH;FMTTYPE=image/jpeg:https://www.tt-owners-club.net/wp-content/upload
 s/2025/03/NordLichTTer25-Gans.jpg
CATEGORIES:TTOC Events
END:VEVENT
BEGIN:VTIMEZONE
TZID:Europe/Berlin
X-LIC-LOCATION:Europe/Berlin
BEGIN:STANDARD
DTSTART:20261025T020000
TZOFFSETFROM:+0200
TZOFFSETTO:+0100
TZNAME:CET
END:STANDARD
END:VTIMEZONE
END:VCALENDAR