BEGIN:VCALENDAR
VERSION:2.0
PRODID:-//wp-events-plugin.com//7.2.3.1//EN
TZID:Europe/Berlin
X-WR-TIMEZONE:Europe/Berlin
BEGIN:VEVENT
UID:39@tt-owners-club.net
DTSTART;TZID=Europe/Berlin:20250301T113000
DTEND;TZID=Europe/Berlin:20250301T233000
DTSTAMP:20250306T171945Z
URL:https://www.tt-owners-club.net/events/nordlichtter-2025-panzermuseum/
SUMMARY:NordlichTTer 2025 Panzermuseum
DESCRIPTION:Am 1. März starteten wir mit einer interessanten Tour in die n
 eue Saison. Mit 11 TTs aus allen Generationen und 16 Teilnehmern machten w
 ir uns auf den Weg durch die malerische Lüneburger Heide\, um das Panzerm
 useum in Munster zu besuchen. Das Museum ist vielen bekannt vom Hinweissch
 ild an der A7.\n\nUnser Treffpunkt war das Restaurant Miss Pepper in Solta
 u\, direkt an der A7. Dort hatten wir ab 11:30 Uhr einen Tisch reserviert 
 und genossen ein gemeinsames spätes Frühstück oder Mittagessen\, je nac
 h Geschmack. Die Stimmung war hervorragend\, und es fand ein reger Austaus
 ch statt\, es gab seit dem letzten Treffen beim Gänseessen viel zu erzäh
 len.\nEs freute uns insbesondere einige neue Gesichter in der Runde begrü
 ßen zu dürfen.\n\nGegen 13:00 Uhr brachen wir dann bei Sonnenschein und 
 lauschigen 8 Grad in Richtung Panzermuseum auf und erreichten unser Ziel u
 m etwa 13:30 Uhr. Dort erwartete uns eine spannende zweistündige Führung
  eines ehemaligen Soldaten durch die beeindruckende Sammlung historischer 
 und aktueller Panzer und Militärfahrzeuge.\n\nDas Museum verfügt nicht 
 über eine Heizung. So half eine extra Lage Bekleidung\, die Führung in v
 ollen Zügen genießen zu können.\n\nNach der Führung machten wir uns ge
 gen 16:35 (!) Uhr auf den Weg nach Celle\, wo wir im Parkhaus Nordwall par
 kten. Den Abend ließen wir gemütlich im Restaurant „San Marino“\, au
 ch bekannt als „Bei Dolores“\, ausklingen. Bei leckerem Essen und gute
 n Gesprächen reflektierten wir den Tag und schmiedeten bereits Pläne fü
 r zukünftige Ausfahrten.\n\nWir bedanken uns bei allen Teilnehmern für d
 iesen gelungenen Saisonauftakt und freuen uns auf viele weitere gemeinsame
  Erlebnisse.\n\nTommi &amp\; Thorsten\n[smartslider3 slider="45"]
ATTACH;FMTTYPE=image/jpeg:https://www.tt-owners-club.net/wp-content/upload
 s/2025/03/Panzer-M2025-A20250301_134523-scaled.jpg
CATEGORIES:TTOC Events
END:VEVENT
BEGIN:VTIMEZONE
TZID:Europe/Berlin
X-LIC-LOCATION:Europe/Berlin
BEGIN:STANDARD
DTSTART:20241027T020000
TZOFFSETFROM:+0200
TZOFFSETTO:+0100
TZNAME:CET
END:STANDARD
END:VTIMEZONE
END:VCALENDAR