BEGIN:VCALENDAR
VERSION:2.0
PRODID:-//wp-events-plugin.com//7.2.3.1//EN
TZID:Europe/Berlin
X-WR-TIMEZONE:Europe/Berlin
BEGIN:VEVENT
UID:6@tt-owners-club.net
DTSTART;TZID=Europe/Berlin:20230621T160000
DTEND;TZID=Europe/Berlin:20230625T110000
DTSTAMP:20240124T204916Z
URL:https://www.tt-owners-club.net/events/birthplace-ttour-gyoer-juni-2023
 /
SUMMARY:Birthplace TTour Györ Juni 2023
DESCRIPTION:\n\nBirthplaceTTour 2023 Györ: Ever lasting – für immer ble
 ibend\n\nDieses Motto gilt wohl nicht nur für unseren geliebten TT sonder
 n auch für die Erinnerungen an diese denkwürdige Geburtstags- aber auch 
 leider – Abschiedstour nach Györ\, der Geburtsstätte des TT.\n\nEs war
 en drei Tage\, an denen sich ein Highlight an das andere gereiht hat: von 
 dem Empfang und die Werksführung durch die Produktionshallen von Audit Hu
 ngaria\, über den Ausflug zur Abtei in Pannonhalma\, die aktive Beteiligu
 ng an einzelnen Fertigungsstationen und einem Autokorso durch die Stadt bi
 s zur Ausfahrt an den Balaton-See mit Automuseum.\n\nUnd schon hier gilt u
 nser besonderer Dank an alle Organisatoren des TTOC und die Ansprechpartne
 r/in von Audi Hungaria\, wo stellvertretend die sehr professionelle und li
 ebenswürdige Zsofia erwähnt sei\, die dies ermöglicht haben und die auf
 tretenden kleinen Aufgaben souverän gelöst haben.\n\nAber der Reihe nach
 .\n\nFür einige war schon die Anfahrt ein Erlebnis. So hat die NRW-Truppe
  die Gelegenheit genutzt und sind vier Tage durch die schönen Alpen über
  die Deutschen Alpenstraße\, die Rossfeld Panoramastraße und andere „s
 chöne Umweg“ nach Ungarn gekommen.\n\nDer Stützunkt in Györ war dann 
 das ETO Park Hotel bei dem es am Anreisetag ein tolles Wiedersehen mit vie
 len TTOC-Mitgliedern gab\, das dann auch nach dem leckeren Abendbuffet ein
 en entsprechenden Ausklang fand.\n\nUnd zur Überraschung der meisten fuhr
 en dann auch noch in einem Sattelschlepper bzw. auf eigenen Rändern von A
 udi Tradition schöne Ausstellungstücken aus Ingolstadt vor.\n\n&nbsp\;\n
 \nAm Donnerstag startete das eigentliche Programm bei strahlendem Sonnsche
 in mit der Fahrt zum Audiwerk. Die Beschäftigtenzahl von rund 12000 läss
 t schon erahnen\, wie beeindruckend der Weg über das Firmen Gelände war.
  Neben der Fertigung von TT- und Q3-Modellen ist Györ das weltweit größ
 te Motorenwerk: Seit der Gründung des Werks im Jahr 1993 produzierte Audi
  Hungaria mehr als 33.000.000 Motoren\, das entspricht etwa 5\,6 Milliarde
 n PS. Obwohl man glauben sollte\, dass die Audianer den Anblick von TT`s g
 ewohnt sind\, ernteten wir doch freundliche und bewundernde Blicke.\n\nBev
 or wir dann zum eigentlich Empfang kamen\, war natürlich die Aufstellung 
 der TT zum Gruppenfoto aus der Vogelperspektive Pflicht (s.o).\n\nFür wie
  wichtig dieses Event hier eingeschätzt wurde\, zeigt dann auch der herzl
 iche Empfang durch die Führungsspitze mit Vorstand Zoltan Les sowie dem P
 roduktionsleiter Laszlo Juhasz. Mit interessanten Details und Anekdoten er
 hielten wir aus erster Hand neue Einblicke in die Geschichte des TT.\n\nDi
 e darauffolgende Führung durch die Produktion erlaubte dann die Einblicke
 \, wie tatsächlich Motor und Karosserie „heiraten“ oder eine Scheibe 
 montiert wird. Einige hatten sogar die Gelegenheit direkt in der Produktio
 nsstrasse mit Hand anzulegen und z.B. die Ringe auf die Heckklappe zu kleb
 en. (Bild von der Audi-Hungaria-Webseite)\n\nNach einigen Leckereien im Be
 triebsrestaurant fuhren wir durch die schöne ungarische Landschaft zur 23
 km entfernten Abtei Pannohalma. Die Abtei\, die auf das erste ungarische B
 enediktinerkloster aus dem Jahr 996 zurückgeht\, liegt wunderschön auf e
 inem Hügel und erlaubt einen herrlichen Blick auf die umgebende Landschaf
 t. Bei der Führung durch die Abtei\, konnte man\, besonders in der sehens
 werten Bibliothek mit antiken Folianten\, die hochgeistige Atmosphäre auf
  sich wirken lassen. Auch geistig\, aber eher in einem niederprozentigen B
 ereich\, ging es dann weiter bei der Besichtigung einer Weinkellerei. Mit 
 einem Schluck kühlen Weißweins konnten man sich auch ein wenig von den h
 eißen Temperaturen draußen erholen. Diejenigen\, die weniger „durstig
 “ waren\, konnten sich Inspirationen für die Küche bei einem geführte
 n Spaziergang durch den Kräutergarten und einen Besuch im Duftmuseum hole
 n.\n\nDen Abschluss des Tages bildet ein Abendessen im benachbarten Restau
 rant Viator. Da wir danach von einem Bus abgeholt wurden\, konnte hier die
  Weinprobe nach Herzenslust nachgeholt oder fortgeführt werden.\n\n&nbsp\
 ;\n\nFreitag war wohl der Tag\, der für viel am beeindrucktesten war. Mit
  dem Busshuttle wurden wir zunächst zu unseren TT nach Pannohalma gebrach
 t und sind von dort aus zum Audi-Werk gefahren. Dort konnten wir in versch
 iedenen Kleingruppen aktiv weitere Einblick in die Prozesse nehmen. Jeder 
 konnte in 2 unterschiedlichen Bereichen wie zum Beispiel die Montage\, den
  Karosseriebau\, die Lackiererei\, Fahrt auf der Teststrecke\, die Qualit
 ätssicherung\, die Logistik sowie das Motorenbautraining selbst mit Hand 
 anlegen. Überraschenderweise haben mache dann doch einen großen Bogen um
  die Holperstrecke gemacht. Man bekam einen Eindruck davon\, wie komplex d
 ie Fertigung tatsächlich ist und wieviel Dinge vor\, neben und nach dem a
 bläuft\, was wir vorherschon am Band gesehen haben. Ein Kommentar aus dem
  Motorenbautraining: Hab die Teile sogar wieder drangeschraubt\, aber den 
 Motor möchte ich glaub ich trotzdem nicht haben. Zur Beruhigung: war ja a
 uch nur im Montagetrainingsbereich!\n\nAls wir dann nach dem Mittagessen w
 ieder zum Parkplatz kamen\, bekamen wir Gesellschaft von der ungarischen P
 olizei mit 6 Einsatzwagen\, davon 4 TT. Anders\, wie vielleicht bei so man
 chen Gelegenheiten\, freuten wir uns diesmal\, denn das war unser Begleits
 chutz für den Autokorso durch die Stadt und mit dem Design haben sie auch
  gut in unsere Reihen gepasst.\n\nUmrahmt von der Polizei ging es erst üb
 ers Gelände und dann in die Stadt. Wir wurden regelrecht von den Autos mi
 t Sirenen umschwirrt und die machten so manchem Verkehrsteilnehmer\, z.T. 
 recht nachdrücklich klar\, dass wir alle „Sonderrechte“ hatten. Da ko
 nnte man Gänsehaut bekommen und sowas erlebt man wohl auch so schnell nic
 ht wieder. In der Innenstadt ging es dann an staunenden Passanten vorbei d
 urch die Fußgängerzone auf einen Parkplatz direkt an der Donau. Hier lie
 ßen es sich die Polizeibeamten sich dann auch nicht nehmen auf einem Grup
 penfoto verewigt zu werden. An den Gesichtsausdrücken sah man\, dass es a
 uch ihnen sehr viel Spaß gemacht hat. Der Rest des Tages konnte dann mit 
 dem Kennenlernen der Stadt individuell verbracht werden. Schließlich traf
 en wir uns dann wieder zum gemeinsamen Essen im „LA Mareda“\, eine emp
 fehlenswerte Lokalität. Der Abend endete dann (wieder) in der Hotelbar\, 
 wo die Tageserlebnisse natürlich intensiv diskutiert werden mussten. Nat
 ürlich mit der erforderlichen Zurückhaltung\, denn am Samstag stand ja d
 ie Ausfahrt an.\n\n&nbsp\;\n\nAm Samstagmorgen haben wir uns dann in Grupp
 en aufgeteilt\, die einen nach Tihany\, die anderen ins Kaáli Auto-Motor 
 Museum (ca.\, 120km bzw.\, 140 km). Die Tour führte über kurvenreiche Be
 rgstraßen mit landschaftlich reizvollen Ausblicken der Region „Bakony-H
 ills“. Hier müssen wir uns auch bei den TTlern von vor Ort\, insbesonde
 re Benedek bedanken\, die die Tour ausgearbeitet und noch zusätzliche Ort
 skundige organisiert hatten. Bedingt durch den sonnigen Samstag war es in 
 dem sehr bekannten\, malerischen Ausflugsort zwar nicht so einfach einen P
 arkplatz zu finden\, aber auch hier hat uns Zsofia tatkräftig den Umgang 
 mit lokalen Parkscheinautomaten beigebracht. Nun konnte jeder nach eigenem
  Interesse die Ortsmitte mit vielen schmucken Eisdielen\, Cafés\, Souveni
 rläden usw. erkunden oder eine kleine Wanderung zum nahen See unternehmen
 . Einige „Seebären“ haben auch die Gelegenheit genutzt\, mit einem Bo
 ot über den See zu fahren.\n\nFür einige Teilnehmer stand dann noch der 
 Besuch des Automotormuseums Kaáli (Dörgicse) auf der Agenda. Das Museum 
 bewirbt sich selbst als „Petrolheads Wonderland“. Es handelt sich um d
 ie größte und vielfältigste Fahrzeugsammlung Ungarns (140 Fahrzeuge).\n
 \nAlle Fahrzeuge sind voll funktionsfähig und wurden in ihrem originalen 
 neuwertigen oder restaurierten Zustand ausgestellt. Sowohl einheimische al
 s auch ausländische Experten haben bei der Auswahl der erworbenen Fahrzeu
 ge und bei der Zusammenstellung geeigneter Hintergrundinformationen geholf
 en. Die Datenblätter der Fahrzeuge wurden vom Automobilhistoriker Dr. Pá
 l Négyesi zusammengestellt. Die Museumsstücke wurden in ihrer ganzen Pra
 cht in lichtdurchfluteten\, passenden Räumen ausgestellt. Die zeitgemäß
 en dekorativen und ergänzenden Elemente in den Räumen sind schöne Beisp
 iele für die Arbeit des Restaurators Péter Nagy.\n\nAuf dem Weg zurück 
 zum Hotel trafen sich alle wieder im Restaurant Platán Csárda in Nyúl u
 nd konnten in einem sehr schönen Ambiente landestypische Spezialitäten g
 enießen.\n\nSchlussendlich endete dieser Tag im Hotel\, wo wir die vielen
  Eindrücke sacken lassen konnten.\n\n&nbsp\;\n\nAm Sonntagmorgen hieß es
  dann Abschied nehmen\, nicht nur von den TTOC-lern sondern auch von dem S
 uperteam von Audi Hungaria und den Audianern aus Ingolstadt. Einige fuhren
  dann wieder in die jeweilige Heimat\, andere nutzten noch die Gelegenheit
  zu weiteren Zwischenstopps.\n\nUnd wie wir begonnen haben\, möchten wir 
 wieder schließen an die Organisatoren des TTOC und Audi Hungaria\, die es
  geschafft haben\, etwas ganz Besonderes auf die Beine zu stellen und dem 
 TT einen unvergesslichen Abschied geschaffen haben. Hoffentlich auf bald-\
 n[smartslider3 slider="6"]\n
ATTACH;FMTTYPE=image/jpeg:https://www.tt-owners-club.net/wp-content/upload
 s/2024/01/gyoer23-01-3AD59C79-8744-496A-8FD7-4B8110ED2280-scaled-1.jpeg
CATEGORIES:TTOC Events
END:VEVENT
BEGIN:VTIMEZONE
TZID:Europe/Berlin
X-LIC-LOCATION:Europe/Berlin
BEGIN:DAYLIGHT
DTSTART:20230326T030000
TZOFFSETFROM:+0100
TZOFFSETTO:+0200
TZNAME:CEST
END:DAYLIGHT
END:VTIMEZONE
END:VCALENDAR